BEGIN:VCALENDAR
VERSION:2.0
PRODID:-//ChamberMaster//Event Calendar 2.0//EN
METHOD:PUBLISH
X-PUBLISHED-TTL:P3D
REFRESH-INTERVAL:P3D
CALSCALE:GREGORIAN
BEGIN:VEVENT
DTSTART:20191023T170000Z
DTEND:20191023T210000Z
X-MICROSOFT-CDO-ALLDAYEVENT:FALSE
SUMMARY:Dollar General Hiring Event
DESCRIPTION:Join Dollar General Distribution Center for their hiring even for general warehouse workers.\n\nDue to warehouse tours\, no open to shoes or heels allowed.\n\nCall 434.517.2000 to RSVP
X-ALT-DESC;FMTTYPE=text/html:Join Dollar General Distribution Center for their hiring even for general warehouse workers.<br />\nDue to warehouse tours\, no open to shoes or heels allowed.<br />\nCall 434.517.2000 to RSVP
LOCATION:Dollar General Distribution Center 3207 Philpott Road South Boston\, VA 24592
UID:e.845.14473
SEQUENCE:3
DTSTAMP:20260420T233120Z
URL:https://business.halifaxchamber.net/events/details/dollar-general-hiring-event-14473
END:VEVENT

END:VCALENDAR
