BEGIN:VCALENDAR
VERSION:2.0
PRODID:-//ChamberMaster//Event Calendar 2.0//EN
METHOD:PUBLISH
X-PUBLISHED-TTL:P3D
REFRESH-INTERVAL:P3D
CALSCALE:GREGORIAN
BEGIN:VEVENT
DTSTART:20210113T230000Z
DTEND:20210114T010000Z
X-MICROSOFT-CDO-ALLDAYEVENT:FALSE
SUMMARY:Dollar General Hiring Event
DESCRIPTION:Join Dollar General Distribution Center for a hiring even.\n\nMust apply in advance at http://www.dollargeneral.com/careers\n\nMust call to set up an appointment at 434.517.2067 or 434.517.2068
X-ALT-DESC;FMTTYPE=text/html:Join Dollar General Distribution Center for a hiring even.<br />\nMust apply in advance at&nbsp\;<a href="http://www.dollargeneral.com/careers">http://www.dollargeneral.com/careers</a><br />\nMust call to set up an appointment at 434.517.2067 or 434.517.2068
LOCATION:Dollar General Distribution Center 3207 Philpott Road South Boston\, VA 24592
UID:e.845.17830
SEQUENCE:3
DTSTAMP:20260419T215545Z
URL:https://business.halifaxchamber.net/events/details/dollar-general-hiring-event-17830
END:VEVENT

END:VCALENDAR
