BEGIN:VCALENDAR
VERSION:2.0
PRODID:-//ChamberMaster//Event Calendar 2.0//EN
METHOD:PUBLISH
X-PUBLISHED-TTL:P3D
REFRESH-INTERVAL:P3D
CALSCALE:GREGORIAN
BEGIN:VEVENT
DTSTART:20210407T180000Z
DTEND:20210407T200000Z
X-MICROSOFT-CDO-ALLDAYEVENT:FALSE
SUMMARY:Dollar General Hiring Event
DESCRIPTION:Shipping & Picking Hiring Event.\n\nMust apply in advance.\n\nwww.dollargeneral.com/careers\n\nMust call to setup appointment - 434-517-2006
X-ALT-DESC;FMTTYPE=text/html:Shipping &amp\; Picking Hiring Event.<br />\nMust apply in advance.<br />\nwww.dollargeneral.com/careers<br />\nMust call to setup appointment - 434-517-2006
LOCATION:Dollar General Distribution Center 3207 Philpott Road South Boston\, VA
UID:e.845.17928
SEQUENCE:3
DTSTAMP:20260419T152750Z
URL:https://business.halifaxchamber.net/events/details/dollar-general-hiring-event-17928
END:VEVENT

END:VCALENDAR
