BEGIN:VCALENDAR
VERSION:2.0
PRODID:-//ChamberMaster//Event Calendar 2.0//EN
METHOD:PUBLISH
X-PUBLISHED-TTL:P3D
REFRESH-INTERVAL:P3D
CALSCALE:GREGORIAN
BEGIN:VEVENT
DTSTART:20160921T190000Z
DTEND:20160921T230000Z
X-MICROSOFT-CDO-ALLDAYEVENT:FALSE
SUMMARY:Dollar General Hiring Event
DESCRIPTION:Ready to Grow With Us?\n\n\n\nHiring Event- Build your career with one of America's fastest growing companies\, Dollar General.\n\nBenefit Programs: based on eligibility\, Health/Vision/Dental Insurance\; 401(k)Savings\; Life Insurance\; Annual Bonus Opportunity\n\nCall 434-517-2068 for details. Apply today at dollargeneral.com/careers
X-ALT-DESC;FMTTYPE=text/html:Ready to Grow With Us?<br />\n<br />\nHiring Event- Build your career with one of America&#39\;s fastest growing companies\, Dollar General.<br />\nBenefit Programs: based on eligibility\, Health/Vision/Dental Insurance\; 401(k)Savings\; Life Insurance\; Annual Bonus Opportunity<br />\nCall 434-517-2068 for details. Apply today at dollargeneral.com/careers
LOCATION:Dollar General Distribution Center - South Boston\, VA
UID:e.845.5709
SEQUENCE:3
DTSTAMP:20260424T225144Z
URL:https://business.halifaxchamber.net/events/details/dollar-general-hiring-event-5709
END:VEVENT

END:VCALENDAR
