BEGIN:VCALENDAR
VERSION:2.0
PRODID:-//ChamberMaster//Event Calendar 2.0//EN
METHOD:PUBLISH
X-PUBLISHED-TTL:P3D
REFRESH-INTERVAL:P3D
CALSCALE:GREGORIAN
BEGIN:VEVENT
DTSTART:20170516T190000Z
DTEND:20170516T230000Z
X-MICROSOFT-CDO-ALLDAYEVENT:FALSE
SUMMARY:Dollar General Hiring Event
DESCRIPTION:Dollar General Hiring Event:\n\nBuild your career with one of America's fastest growing companies\, Dollar General. Benefit Programs: based on eligibility\, Health/Vision/Dental Insurance\; 401(k) Savings\; Life Insurance\; Annual Bonus Opportunity\n\n\n\nApply online before May 15\, 2017
X-ALT-DESC;FMTTYPE=text/html:Dollar General Hiring Event:<br />\nBuild your career with one of America&#39\;s fastest growing companies\, Dollar General. Benefit Programs: based on eligibility\, Health/Vision/Dental Insurance\; 401(k) Savings\; Life Insurance\; Annual Bonus Opportunity<br />\n<br />\nApply online before May 15\, 2017
LOCATION:Dollar General Distribution Center South Boston\, VA
UID:e.845.5914
SEQUENCE:3
DTSTAMP:20260423T010758Z
URL:https://business.halifaxchamber.net/events/details/dollar-general-hiring-event-5914
END:VEVENT

END:VCALENDAR
