BEGIN:VCALENDAR
VERSION:2.0
PRODID:-//ChamberMaster//Event Calendar 2.0//EN
METHOD:PUBLISH
X-PUBLISHED-TTL:P3D
REFRESH-INTERVAL:P3D
CALSCALE:GREGORIAN
BEGIN:VEVENT
DTSTART:20180926T190000Z
DTEND:20180926T220000Z
X-MICROSOFT-CDO-ALLDAYEVENT:FALSE
SUMMARY:Dollar General Hiring Event
DESCRIPTION:Ready To Grow With Us? Hiring Event\n\nGeneral Warehouse Workers\n\nApply today at dollargeneral.com/careers. Please submit applications before September 21\, 2018. Applicants who attended the August 2018 Hiring Event need not re-apply\, as applications remain on file. Due to warehouse tours \, no open shoes or heels allowed.\n\nBenefit Programs: based on eligibility\, Health/Vision/Dental Insurance\; 401(k) Savings\; Life Insurance\; Annual Bonus Opportunity
X-ALT-DESC;FMTTYPE=text/html:Ready To Grow With Us? Hiring Event<br />\nGeneral Warehouse Workers<br />\nApply today at dollargeneral.com/careers. Please submit applications before September 21\, 2018. Applicants who attended the August 2018 Hiring Event need not re-apply\, as applications remain on file. Due to warehouse tours \, no open shoes or heels allowed.<br />\nBenefit Programs: based on eligibility\, Health/Vision/Dental Insurance\; 401(k) Savings\; Life Insurance\; Annual Bonus Opportunity
LOCATION:Dollar General Distribution Center South Boston\, VA
UID:e.845.8507
SEQUENCE:3
DTSTAMP:20260421T190308Z
URL:https://business.halifaxchamber.net/events/details/dollar-general-hiring-event-8507
END:VEVENT

END:VCALENDAR
