BEGIN:VCALENDAR
VERSION:2.0
PRODID:-//ChamberMaster//Event Calendar 2.0//EN
METHOD:PUBLISH
X-PUBLISHED-TTL:P3D
REFRESH-INTERVAL:P3D
CALSCALE:GREGORIAN
BEGIN:VEVENT
DTSTART:20200623T180000Z
DTEND:20200623T210000Z
X-MICROSOFT-CDO-ALLDAYEVENT:FALSE
SUMMARY:Dollar General Job Fair
DESCRIPTION:Looking for General Warehouse Workers\n\nMust Call to Setup Appointment\n\n(629) 304-8315 | (434) 517-2068
X-ALT-DESC;FMTTYPE=text/html:Looking for General Warehouse Workers<br />\nMust Call to Setup Appointment<br />\n(629) 304-8315 | (434) 517-2068
LOCATION:South Boston Distribution Center 3207 Philpott Road South Boston\, VA 24592
UID:e.845.17707
SEQUENCE:3
DTSTAMP:20260420T100012Z
URL:https://business.halifaxchamber.net/events/details/dollar-general-job-fair-17707
END:VEVENT

END:VCALENDAR
