BEGIN:VCALENDAR
VERSION:2.0
PRODID:-//ChamberMaster//Event Calendar 2.0//EN
METHOD:PUBLISH
X-PUBLISHED-TTL:P3D
REFRESH-INTERVAL:P3D
CALSCALE:GREGORIAN
BEGIN:VEVENT
DTSTART:20200706T210000Z
DTEND:20200706T223000Z
X-MICROSOFT-CDO-ALLDAYEVENT:FALSE
SUMMARY:Dollar General Job Fair
DESCRIPTION:Dollar General Job Fair\n\nMonday\, July 6\, 2020\n\n5-6:30 pm\n\n\n\nGeneral Warehouse Workers\n\nAll Shifts\, pay starting $14.75/hr\n\n\n\n*Must apply in advance*\n\nwww.dollargeneral.com/careers\n\n\n\n*Must call to setup appointment*\n\n629-304-8315\n\n434-517-2068\n\n\n\nSouth Boston Distribution Center\n\n3207 Philpott Road\n\nSouth Boston\, VA
X-ALT-DESC;FMTTYPE=text/html:<div style="text-align: center\;"><span style="font-size:14px\;"><strong>Dollar General Job Fair</strong></span></div>\n\n<div style="text-align: center\;">Monday\, July 6\, 2020<br>\n5-6:30 pm<br>\n<br>\nGeneral Warehouse Workers<br>\nAll Shifts\, pay starting $14.75/hr<br>\n<br>\n*Must apply in advance*<br>\nwww.dollargeneral.com/careers<br>\n<br>\n*Must call to setup appointment*<br>\n629-304-8315<br>\n434-517-2068<br>\n<br>\nSouth Boston Distribution Center<br>\n3207 Philpott Road<br>\nSouth Boston\, VA</div>\n
LOCATION:Dollar General South Boston Distribution Center 3207 Philpott Road South Boston\, VA
UID:e.845.17716
SEQUENCE:3
DTSTAMP:20260420T062641Z
URL:https://business.halifaxchamber.net/events/details/dollar-general-job-fair-17716
END:VEVENT

END:VCALENDAR
