BEGIN:VCALENDAR
VERSION:2.0
PRODID:-//ChamberMaster//Event Calendar 2.0//EN
METHOD:PUBLISH
X-PUBLISHED-TTL:P3D
REFRESH-INTERVAL:P3D
CALSCALE:GREGORIAN
BEGIN:VEVENT
DTSTART:20200713T190000Z
DTEND:20200713T204000Z
X-MICROSOFT-CDO-ALLDAYEVENT:FALSE
SUMMARY:Dollar General Job Fair
DESCRIPTION:Dollar General Job Fair\n\nMonday\, July 613\, 2020\n\n3-4:40 pm\n\n\n\nGeneral Warehouse Workers\n\nAll Shifts\, pay starting $14.75/hr\n\n\n\n*Must apply in advance*\n\nwww.dollargeneral.com/careers\n\n\n\n*Must call to setup appointment*\n\n434-517-2067\n\n434-517-2068\n\n\n\nSouth Boston Distribution Center\n\n3207 Philpott Road\n\nSouth Boston\, VA
X-ALT-DESC;FMTTYPE=text/html:<div style="text-align: center\;"><span style="font-size:14px\;"><strong>Dollar General Job Fair</strong></span></div>\n\n<div style="text-align: center\;">Monday\, July 613\, 2020<br />\n3-4:40&nbsp\;pm<br />\n<br />\nGeneral Warehouse Workers<br />\nAll Shifts\, pay starting $14.75/hr<br />\n<br />\n*Must apply in advance*<br />\nwww.dollargeneral.com/careers<br />\n<br />\n*Must call to setup appointment*<br />\n434-517-2067<br />\n434-517-2068<br />\n<br />\nSouth Boston Distribution Center<br />\n3207 Philpott Road<br />\nSouth Boston\, VA</div>\n
LOCATION:Dollar General South Boston Distribution Center 3207 Philpott Road South Boston\, VA
UID:e.845.17717
SEQUENCE:3
DTSTAMP:20260420T062640Z
URL:https://business.halifaxchamber.net/events/details/dollar-general-job-fair-17717
END:VEVENT

END:VCALENDAR
