BEGIN:VCALENDAR
VERSION:2.0
PRODID:-//ChamberMaster//Event Calendar 2.0//EN
METHOD:PUBLISH
X-PUBLISHED-TTL:P3D
REFRESH-INTERVAL:P3D
CALSCALE:GREGORIAN
BEGIN:VEVENT
DTSTART:20210422T150000Z
DTEND:20210422T230000Z
X-MICROSOFT-CDO-ALLDAYEVENT:FALSE
SUMMARY:Dollar General Nationwide Hiring Event
DESCRIPTION:Dollar General South Boston Distribution Center will be hosting on the spot interviews for retail\, warehouse\, and fleet.
X-ALT-DESC;FMTTYPE=text/html:Dollar General South Boston Distribution Center will be hosting on the spot interviews for retail\, warehouse\, and fleet.
LOCATION:Dollar General Distribution Center 3207 Philpott Road South Boston\, VA 24592
UID:e.845.17967
SEQUENCE:3
DTSTAMP:20260419T152958Z
URL:https://business.halifaxchamber.net/events/details/dollar-general-nationwide-hiring-event-17967
END:VEVENT

END:VCALENDAR
