BEGIN:VCALENDAR
VERSION:2.0
PRODID:-//ChamberMaster//Event Calendar 2.0//EN
METHOD:PUBLISH
X-PUBLISHED-TTL:P3D
REFRESH-INTERVAL:P3D
CALSCALE:GREGORIAN
BEGIN:VEVENT
DTSTART:20200820T180000Z
DTEND:20200820T200000Z
X-MICROSOFT-CDO-ALLDAYEVENT:FALSE
SUMMARY:Dollar General Summer Hiring Event
DESCRIPTION:Must Apply in Advance\n\n$14.75 an hour plus shift differentials. Possible $2/hour premium position bonus. $2/hour COVID bonus until October.\n\nwww.dollargeneral.com/careers
X-ALT-DESC;FMTTYPE=text/html:Must Apply in Advance<br />\n$14.75 an hour plus shift differentials. Possible $2/hour premium position bonus. $2/hour COVID bonus until October.<br />\nwww.dollargeneral.com/careers
LOCATION:South Boston Distribution Center 3207 Philpott Road South Boston\, VA 24592
UID:e.845.17737
SEQUENCE:3
DTSTAMP:20260420T062852Z
URL:https://business.halifaxchamber.net/events/details/dollar-general-summer-hiring-event-08-20-2020-17737
END:VEVENT

END:VCALENDAR
