BEGIN:VCALENDAR
VERSION:2.0
PRODID:-//ChamberMaster//Event Calendar 2.0//EN
METHOD:PUBLISH
X-PUBLISHED-TTL:P3D
REFRESH-INTERVAL:P3D
CALSCALE:GREGORIAN
BEGIN:VEVENT
DTSTART:20200407T160000Z
DTEND:20200407T170000Z
X-MICROSOFT-CDO-ALLDAYEVENT:FALSE
SUMMARY:Domestic and Global Outlook within the Ag Industry
DESCRIPTION:Join us as we welcome Dr. Dave Kohl\, Emeritus of Virginia Tech\, as he discusses the Domestic and Global Outlook within the Ag Industry. \n\n\n\nWebinar is co-hosted by AgChoice\, Colonial Farm Credit\, and Mid Atlantic Farm Credit.
X-ALT-DESC;FMTTYPE=text/html:<span style="color: rgb(29\, 33\, 41)\; font-family: system-ui\, -apple-system\, BlinkMacSystemFont\, '.SFNSText-Regular'\, sans-serif\; font-size: 14px\; white-space: pre-wrap\;">Join us as we welcome Dr. Dave Kohl\, Emeritus of Virginia Tech\, as he discusses the Domestic and Global Outlook within the Ag Industry. </span><br style="color: rgb(29\, 33\, 41)\; font-family: system-ui\, -apple-system\, BlinkMacSystemFont\, '.SFNSText-Regular'\, sans-serif\; font-size: 14px\; white-space: pre-wrap\;" />\n<br style="color: rgb(29\, 33\, 41)\; font-family: system-ui\, -apple-system\, BlinkMacSystemFont\, '.SFNSText-Regular'\, sans-serif\; font-size: 14px\; white-space: pre-wrap\;" />\n<span style="color: rgb(29\, 33\, 41)\; font-family: system-ui\, -apple-system\, BlinkMacSystemFont\, '.SFNSText-Regular'\, sans-serif\; font-size: 14px\; white-space: pre-wrap\;">Webinar is co-hosted by AgChoice\, Colonial Farm Credit\, and Mid Atlantic Farm Credit. </span><br style="color: rgb(29\, 33\, 41)\; font-family: system-ui\, -apple-system\, BlinkMacSystemFont\, '.SFNSText-Regular'\, sans-serif\; font-size: 14px\; white-space: pre-wrap\;" />\n&nbsp\;
LOCATION:To register for the free webinar\, please use the following link: https://industryoutlook.eventbrite.com
UID:e.845.17557
SEQUENCE:3
DTSTAMP:20260420T132500Z
URL:https://business.halifaxchamber.net/events/details/domestic-and-global-outlook-within-the-ag-industry-17557
END:VEVENT

END:VCALENDAR
