BEGIN:VCALENDAR
VERSION:2.0
PRODID:-//ChamberMaster//Event Calendar 2.0//EN
METHOD:PUBLISH
X-PUBLISHED-TTL:P3D
REFRESH-INTERVAL:P3D
CALSCALE:GREGORIAN
BEGIN:VEVENT
DTSTART:20170429T010000Z
DTEND:20170429T035500Z
X-MICROSOFT-CDO-ALLDAYEVENT:FALSE
SUMMARY:Double Shot at Main St. Cafe
DESCRIPTION:Double Shot at Main Street Cafe.
X-ALT-DESC;FMTTYPE=text/html:Double Shot at Main Street Cafe.
LOCATION:512 Main Street South Boston\, VA
UID:e.845.5907
SEQUENCE:3
DTSTAMP:20260424T113808Z
URL:https://business.halifaxchamber.net/events/details/double-shot-at-main-st-cafe-5907
END:VEVENT

END:VCALENDAR
