BEGIN:VCALENDAR
VERSION:2.0
PRODID:-//ChamberMaster//Event Calendar 2.0//EN
METHOD:PUBLISH
X-PUBLISHED-TTL:P3D
REFRESH-INTERVAL:P3D
CALSCALE:GREGORIAN
BEGIN:VEVENT
DTSTART:20170617T113000Z
DTEND:20170617T160000Z
X-MICROSOFT-CDO-ALLDAYEVENT:FALSE
SUMMARY:Downtown Farmers Market 30th Anniversary Celebration
DESCRIPTION:The public is invited to a grand opening celebration Saturday\, June 17 at the Downtown South Boston Farmers Market. This Saturday is a celebration of the 30th Anniversary of the Market. \n\n\n\nCome enjoy refreshments\, music\, and as always\, lots of home grown and homemade goodies from people you know and trust.  The market will be open beginning at 7:30 am until the farmers sell out of .Stringbeans   Beets   Blueberries   Onions   Red Potatoes   Squash   Cabbage  Cucumbers   Zucchini   Broccoli   Baked Goods   Grass-Fed Grass-Finished Beef   Duck and Chicken Eggs   Non GMO Pastured Pork   Vegetable Plants and Flowers   and TOMATOES!\n\n\n\nActivities for the day include 10 - 11 am Live Music by The Blue Grass Five and Door Prize Drawings. Maria Traynham with Virginia Cooperative Extension Family Nutrition will do a cooking demonstration using produce bought on site at the market that morning and bottled water will be available compliments of Grand Springs as well as coffee and lemonade. \n\n\n\nCome hungry - Two food trucks will be on site - Mama Crockett's Cider Donuts and Tacos el Kora.\n\n\n\n    Virginia Cooperative Extension will be on hand all morning with the Master Gardeners Help Desk and The South Boston Fire Department will be on hand to show a fire truck up close as well as visit with firefighters and give some fire safetytips. They will have fire safety literature for the adults and giveaways for the kids.\n\n\n\n\n\nThe Farmers Market accepts SNAP/EBT on Saturdays and you can stretch your dollars with Double Bucks thanks to our Double Bucks Sponsor Optima Health Family Care!\n\n\n\n\n\nBen Capozzi\, Market Manager\, says "Come early and enjoy yourself! You can get everything you need at the market for an entire week of meals\, from fresh vegetables\, to breakfast sausage\, to dinner steaks!" \n\n\n\nThe Farmers Market is located at 300 Broad Street in the parking lot behind Distinct Impressions and across from True Value.
X-ALT-DESC;FMTTYPE=text/html:<big><span style="font-size:small\;"><span style="font-family:arial\;"><big>The public is invited to a grand opening celebration Saturday\, June&nbsp\;17&nbsp\;at the Downtown South Boston Farmers Market. This Saturday is a celebration of the 30th Anniversary of the Market.&nbsp\;</big></span></span></big><br />\n<br />\n<big><span style="font-size:small\;"><span style="font-family:arial\;"><big>Come enjoy refreshments\, music\, and as always\, lots of home grown and homemade goodies from people you know and trust.&nbsp\; The market will be open beginning at 7:30 am until the farmers sell out of&nbsp\;</big></span></span><small>.</small></big>Stringbeans &bull\; Beets &bull\; Blueberries &bull\; Onions &bull\; Red Potatoes&nbsp\;&bull\; Squash &bull\; Cabbage&bull\; Cucumbers &bull\; Zucchini &bull\; Broccoli&nbsp\;&bull\; Baked Goods&nbsp\;&bull\; Grass-Fed Grass-Finished Beef&nbsp\;&bull\; Duck and Chicken Eggs &bull\; Non GMO Pastured Pork&nbsp\;&bull\; Vegetable Plants and&nbsp\;Flowers &bull\; and TOMATOES!<br />\n<br />\n<big><span style="font-size:small\;"><span style="font-family:arial\;"><big>Activities for the day include&nbsp\;</big></span></span></big><big><span style="font-size:small\;"><span style="font-family:arial\;"><big>10 - 11&nbsp\;am&nbsp\;Live Music by The Blue Grass Five&nbsp\;and&nbsp\;Door Prize Drawings.&nbsp\;</big></span></span></big><big><span style="font-size:small\;"><span style="font-family:arial\;"><big>Maria Traynham with&nbsp\;Virginia Cooperative Extension Family Nutrition</big></span></span></big><big><span style="font-size:small\;"><span style="font-family:arial\;"><big>&nbsp\;will do a cooking demonstration using produce bought on site at the market that morning&nbsp\;and&nbsp\;b</big></span></span></big><span style="font-size:small\;"><span style="font-family:arial\;"><big><span style="font-size:small\;"><span style="font-family:arial\;"><big>ottled water will be available compliments of Grand Springs&nbsp\;as well as coffee and lemonade.&nbsp\;</big></span></span></big></span></span><br />\n<br />\n<span style="font-size:small\;"><span style="font-family:arial\;"><big><span style="font-size:small\;"><span style="font-family:arial\;"><big>Come hungry - Two food trucks will be on site&nbsp\;-&nbsp\;</big></span></span></big></span></span><span style="font-size:small\;"><span style="font-family:arial\;"><big><span style="font-size:small\;"><span style="font-family:arial\;"><big>Mama Crockett&rsquo\;s Cider Donuts and Tacos el Kora.</big></span></span></big></span></span><br />\n<br />\n&nbsp\;&nbsp\;&nbsp\;&nbsp\;<span style="font-size:small\;"><span style="font-family:arial\;"><big><span style="font-size:small\;"><span style="font-family:arial\;"><big>Virginia Cooperative Extension will be on hand all morning with the Master Gardeners Help Desk&nbsp\;and The South Boston Fire Department will be on hand&nbsp\;to show&nbsp\;a&nbsp\;fire truck up close as well as visit with firefighters and&nbsp\;give some fire </big></span></span></big></span></span><span style="font-size:small\;"><span style="font-family:arial\;"><big><span style="font-size:small\;"><span style="font-family:arial\;"><big>safety</big></span></span></big></span></span><big><big>tips</big></big><big><big>. They will have&nbsp\;fire&nbsp\;safety literature&nbsp\;for the adults and giveaways for the kids.</big></big><br />\n<br />\n<br />\n<span style="font-size:small\;"><span style="font-family:arial\;"><big><span style="font-size:small\;"><span style="font-family:arial\;"><big>The Farmers&nbsp\;Market&nbsp\;</big></span></span></big></span></span><span style="font-size:small\;"><span style="font-family:arial\;"><big><span style="font-size:small\;"><span style="font-family:arial\;"><big>accepts&nbsp\;SNAP/EBT&nbsp\;on Saturdays and you can stretch your dollars with Double Bucks thanks to our Double Bucks Sponsor Optima Health Family Care!</big></span></span></big></span></span><br />\n<br />\n<br />\n<span style="font-size:small\;"><span style="font-family:arial\;"><big><span style="font-size:small\;"><span style="font-family:arial\;"><big>Ben Capozzi\, Market Manager\, says&nbsp\;&quot\;Come early and enjoy yourself! You can get everything you need at the market for an entire week of meals\, from&nbsp\;fresh vegetables\, to breakfast sausage\, to dinner steaks!&quot\;&nbsp\;</big></span></span></big></span></span><br />\n<br />\n<span style="font-size:small\;"><span style="font-family:arial\;"><big><span style="font-size:small\;"><span style="font-family:arial\;"><big>The Farmers Market is located at 300 Broad Street in the parking lot behind Distinct Impressions and across from True Value.</big></span></span></big></span></span>\n\n<div>&nbsp\;</div>\n
LOCATION:Downtown South Boston Farmers Market 300 Broad Street South Boston\, VA
UID:e.845.5993
SEQUENCE:3
DTSTAMP:20260422T212430Z
URL:https://business.halifaxchamber.net/events/details/downtown-farmers-market-30th-anniversary-celebration-5993
END:VEVENT

END:VCALENDAR
