BEGIN:VCALENDAR
VERSION:2.0
PRODID:-//ChamberMaster//Event Calendar 2.0//EN
METHOD:PUBLISH
X-PUBLISHED-TTL:P3D
REFRESH-INTERVAL:P3D
CALSCALE:GREGORIAN
BEGIN:VEVENT
DTSTART:20171119T180000Z
DTEND:20171119T220000Z
X-MICROSOFT-CDO-ALLDAYEVENT:FALSE
SUMMARY:Downtown South Boston Christmas Open House
DESCRIPTION:It's a Holiday Tradition! The 31st Annual Historic Downtown South Boston Christmas Open House from 1:00 - 5:00PM. Downtown stores will be open for your holiday shopping pleasure. \n\n\n\nTake your picture with Santa!\n\n\n\nRegister to win a gift certificate from participating merchants and enter to win a $100 Downtown Gift Certificate.
X-ALT-DESC;FMTTYPE=text/html:It&#39\;s a Holiday Tradition! The 31st&nbsp\;Annual Historic Downtown South Boston Christmas Open House from 1:00 - 5:00PM. Downtown stores will be open for your holiday shopping pleasure.&nbsp\;<br />\n<br />\nTake your picture with Santa!<br />\n<br />\nRegister to win a gift certificate from participating merchants and enter to win a $100 Downtown Gift Certificate.
LOCATION:Downtown South Boston
UID:e.845.7058
SEQUENCE:3
DTSTAMP:20260422T135859Z
URL:https://business.halifaxchamber.net/events/details/downtown-south-boston-christmas-open-house-7058
END:VEVENT

END:VCALENDAR
