BEGIN:VCALENDAR
VERSION:2.0
PRODID:-//ChamberMaster//Event Calendar 2.0//EN
METHOD:PUBLISH
X-PUBLISHED-TTL:P3D
REFRESH-INTERVAL:P3D
CALSCALE:GREGORIAN
BEGIN:VEVENT
DTSTART:20180324T110000Z
DTEND:20180324T160000Z
X-MICROSOFT-CDO-ALLDAYEVENT:FALSE
SUMMARY:Downtown South Boston Farmers Market 5K Community Run/Walk
DESCRIPTION:Spring into the season with a fun\, free event for the whole family.  Downtown South Boston Farmers Market 5K Community Run/Walk. Free Events\, Free Prizes. Plus Veggie Starts\, T-shirts\, Baked Goods & Games.\n\nStraw Bale Gardening Demonstration.
X-ALT-DESC;FMTTYPE=text/html:Spring into the season with a fun\, free event for the whole family. &nbsp\;Downtown South Boston Farmers Market 5K Community Run/Walk. Free Events\, Free Prizes. Plus Veggie Starts\, T-shirts\, Baked Goods &amp\; Games.<br />\nStraw Bale Gardening Demonstration.
LOCATION:South Boston Farmers Market
UID:e.845.8242
SEQUENCE:3
DTSTAMP:20260422T073140Z
URL:https://business.halifaxchamber.net/events/details/downtown-south-boston-farmers-market-5k-community-run-walk-8242
END:VEVENT

END:VCALENDAR
