BEGIN:VCALENDAR
VERSION:2.0
PRODID:-//ChamberMaster//Event Calendar 2.0//EN
METHOD:PUBLISH
X-PUBLISHED-TTL:P3D
REFRESH-INTERVAL:P3D
CALSCALE:GREGORIAN
BEGIN:VEVENT
DTSTART:20180704T220000Z
DTEND:20180705T020000Z
X-MICROSOFT-CDO-ALLDAYEVENT:FALSE
SUMMARY:Downtown South Boston July 4th Celebration
DESCRIPTION:Celebrate the 4th of July with Downtown South Boston! \n\nThe parade begins at 6:00pm\, starting at Enterprise and ending at the end of Main Street! \n\nFestivities and entertainment begin at 7pm in Constitution Square and the Fireworks display will begin at 9:30pm! \n\nVisit www.downtownsobo.com for parade applications and more information.
X-ALT-DESC;FMTTYPE=text/html:<p>Celebrate the 4th of July with Downtown South Boston!&nbsp\;<br />\nThe parade begins at 6:00pm\, starting at Enterprise and ending at the end of Main Street!&nbsp\;<br />\nFestivities and entertainment begin at 7pm in Constitution Square and the Fireworks display will begin at 9:30pm!&nbsp\;<br />\nVisit www.downtownsobo.com for parade applications and more information.&nbsp\;</p>\n
LOCATION:Downtown South Boston Activities and music at Constitution Square after the parade!
UID:e.845.8303
SEQUENCE:3
DTSTAMP:20260421T222220Z
URL:https://business.halifaxchamber.net/events/details/downtown-south-boston-july-4th-celebration-8303
END:VEVENT

END:VCALENDAR
