BEGIN:VCALENDAR
VERSION:2.0
PRODID:-//ChamberMaster//Event Calendar 2.0//EN
METHOD:PUBLISH
X-PUBLISHED-TTL:P3D
REFRESH-INTERVAL:P3D
CALSCALE:GREGORIAN
BEGIN:VEVENT
DTSTART;VALUE=DATE:20260425
DTEND;VALUE=DATE:20260426
TRANSP:TRANSPARENT
X-MICROSOFT-CDO-ALLDAYEVENT:TRUE
SUMMARY:Dragon Puppet Workshop - SoVa Arts Collective
DESCRIPTION:Let your child's imagination take flight as we create one-of-a-kind dragon puppets using recycled materials!
X-ALT-DESC;FMTTYPE=text/html:<br />\n<span style="font-size:16px\;">Let your child&rsquo\;s imagination take flight as we create one-of-a-kind dragon puppets using recycled materials! &#9851\;&#65039\;&#10024\;</span>
LOCATION:SoVa Arts Collective
UID:e.845.25172
SEQUENCE:3
DTSTAMP:20260420T180654Z
URL:https://business.halifaxchamber.net/events/details/dragon-puppet-workshop-sova-arts-collective-25172
END:VEVENT

END:VCALENDAR
