BEGIN:VCALENDAR
VERSION:2.0
PRODID:-//ChamberMaster//Event Calendar 2.0//EN
METHOD:PUBLISH
X-PUBLISHED-TTL:P3D
REFRESH-INTERVAL:P3D
CALSCALE:GREGORIAN
BEGIN:VEVENT
DTSTART:20190125T180000Z
DTEND:20190125T190000Z
X-MICROSOFT-CDO-ALLDAYEVENT:FALSE
SUMMARY:Dress to Impress
DESCRIPTION:Learn how to dress professionally and prepare for a successful career!\n\n\n\nRSVP by Tues. Jan 22nd 2019 \n\nBy Phone : 434-572-8319
X-ALT-DESC;FMTTYPE=text/html:Learn how to dress professionally and prepare for a successful career!<br />\n<br />\nRSVP by Tues. Jan 22nd 2019&nbsp\;<br />\nBy Phone : 434-572-8319
LOCATION:Virginia Career Works - South Boston Center 2506 Houghton Avenue South Boston\, VA 24592
UID:e.845.11687
SEQUENCE:3
DTSTAMP:20260421T135934Z
URL:https://business.halifaxchamber.net/events/details/dress-to-impress-11687
END:VEVENT

END:VCALENDAR
