BEGIN:VCALENDAR
VERSION:2.0
PRODID:-//ChamberMaster//Event Calendar 2.0//EN
METHOD:PUBLISH
X-PUBLISHED-TTL:P3D
REFRESH-INTERVAL:P3D
CALSCALE:GREGORIAN
BEGIN:VEVENT
DTSTART:20190120T003000Z
DTEND:20190120T020000Z
X-MICROSOFT-CDO-ALLDAYEVENT:FALSE
SUMMARY:Dueling Divas 3
DESCRIPTION:Dueling Divas 3 - Alison Streeter and Brad Bass - The Divas return to The Prizery stage with a night of your favorite Broadway tunes! Featuring Alison Streeter and Brad Bass in their light-hearted sing-off!
X-ALT-DESC;FMTTYPE=text/html:<span style="caret-color: rgb(51\, 51\, 51)\; color: rgb(51\, 51\, 51)\; font-family: Helvetica\, Arial\, sans-serif\; font-size: 15px\; background-color: rgba(245\, 240\, 236\, 0.498039)\;">Dueling Divas 3 - Alison Streeter and Brad Bass - The Divas return to The Prizery stage with a night of your favorite Broadway tunes! Featuring Alison Streeter and Brad Bass in their light-hearted sing-off!</span>
LOCATION:The Prizery South Boston\, VA
UID:e.845.8576
SEQUENCE:3
DTSTAMP:20260421T122140Z
URL:https://business.halifaxchamber.net/events/details/dueling-divas-3-8576
END:VEVENT

END:VCALENDAR
