BEGIN:VCALENDAR
VERSION:2.0
PRODID:-//ChamberMaster//Event Calendar 2.0//EN
METHOD:PUBLISH
X-PUBLISHED-TTL:P3D
REFRESH-INTERVAL:P3D
CALSCALE:GREGORIAN
BEGIN:VEVENT
DTSTART:20200116T170000Z
DTEND:20200126T183000Z
X-MICROSOFT-CDO-ALLDAYEVENT:FALSE
SUMMARY:Early Bird Sale for Michelin GT Challenge at VIR
DESCRIPTION:Be sure to grab your tickets to the Michelin GT Challenge before the checkered flag drops at the Rolex 24 Hours of Daytona!
X-ALT-DESC;FMTTYPE=text/html:<span style="color:rgb(29\, 33\, 41)\; font-family:system-ui\,-apple-system\,system-ui\,.sfnstext-regular\,sans-serif\; font-size:14px">Be sure to grab your tickets to the Michelin GT Challenge before the checkered flag drops at the Rolex 24 Hours of Daytona!</span>
LOCATION:VIRginia National Raceway 1245 Pine Tree Rd Alton\, VA 24520
UID:e.845.15655
SEQUENCE:3
DTSTAMP:20260420T183336Z
URL:https://business.halifaxchamber.net/events/details/early-bird-sale-for-michelin-gt-challenge-at-vir-15655
END:VEVENT

END:VCALENDAR
