BEGIN:VCALENDAR
VERSION:2.0
PRODID:-//ChamberMaster//Event Calendar 2.0//EN
METHOD:PUBLISH
X-PUBLISHED-TTL:P3D
REFRESH-INTERVAL:P3D
CALSCALE:GREGORIAN
BEGIN:VEVENT
DTSTART:20170422T140000Z
DTEND:20170422T180000Z
X-MICROSOFT-CDO-ALLDAYEVENT:FALSE
SUMMARY:Earth Day Celebration
DESCRIPTION:Please Event Activities\n\n	Rain Barrell Project - the special project begins at 9:00 AM and participants must register. Please click here to participate in this activity.\n	Make a dirt baby \n	Visit the question fish bowl\n	Make an all natural bird feeder\n	Recycling Scavenger Hunt\n	Get pictures at the Love Sign
X-ALT-DESC;FMTTYPE=text/html:Please Event Activities\n<ul>\n	<li>Rain Barrell Project - the special project begins at 9:00 AM and participants must register. Please click&nbsp\;<a href="http://halifaxswcd.org/rain-barrel-workshops/">here</a> to participate in this activity.</li>\n	<li>Make a dirt baby&nbsp\;</li>\n	<li>Visit the question fish bowl</li>\n	<li>Make an all natural bird feeder</li>\n	<li>Recycling Scavenger Hunt</li>\n	<li>Get pictures at the Love Sign</li>\n</ul>\n
LOCATION:Town of Halifax Farmers Market 209 South Main Street Halifax\, VA 24558
UID:e.845.5837
SEQUENCE:3
DTSTAMP:20260424T113819Z
URL:https://business.halifaxchamber.net/events/details/earth-day-celebration-5837
END:VEVENT

END:VCALENDAR
