BEGIN:VCALENDAR
VERSION:2.0
PRODID:-//ChamberMaster//Event Calendar 2.0//EN
METHOD:PUBLISH
X-PUBLISHED-TTL:P3D
REFRESH-INTERVAL:P3D
CALSCALE:GREGORIAN
BEGIN:VEVENT
DTSTART:20210417T120000Z
DTEND:20210417T160000Z
X-MICROSOFT-CDO-ALLDAYEVENT:FALSE
SUMMARY:Earth Day Everyday at the Downtown South Boston Farmers Market
DESCRIPTION:Downtown South Boston Farmers Market invites one and all to celebrate Earth Day! Both adults and children are sure to have a great time at this event.\n\n\n\nAn amazing line-up of Vendors will be Onsite as usual.\n\n\n\nThe wonderful Mrs Sue @ 10am with her educational program for the kids.\n\n\n\nOngoing Seed Starting Workshop for ALL AGES\n\n\n\nTree Giveaway\n\n\n\nIt truly will be a great day for all! We encourage everyone to plan to stay awhile and see what Downtown South Boston has to offer! Saturdays are the PERFECT time to SHOP LOCAL and visit our awesome Downtown Shops and Restaurants!\n\n\n\nFor Questions about the Earth Day Event or to see about setting up as a vendor please contact Market Manager Megan via DM\, email dtsbfm.mm@gmail.com\, or by Call/Text 3365048398.
X-ALT-DESC;FMTTYPE=text/html:<div class="o9v6fnle cxmmr5t8 oygrvhab hcukyx3x c1et5uql ii04i59q" style="overflow-wrap: break-word\; margin: 0.5em 0px 0px\; white-space: pre-wrap\; font-family: system-ui\, -apple-system\, system-ui\, &quot\;.SFNSText-Regular&quot\;\, sans-serif\; color: rgb(5\, 5\, 5)\; font-size: 15px\;">\n<div dir="auto" style="font-family: inherit\;">Downtown South Boston Farmers Market invites one and all to celebrate Earth Day! Both adults and children are sure to have a great time at this event.</div>\n</div>\n\n<div class="o9v6fnle cxmmr5t8 oygrvhab hcukyx3x c1et5uql ii04i59q" style="overflow-wrap: break-word\; margin: 0.5em 0px 0px\; white-space: pre-wrap\; font-family: system-ui\, -apple-system\, system-ui\, &quot\;.SFNSText-Regular&quot\;\, sans-serif\; color: rgb(5\, 5\, 5)\; font-size: 15px\;">\n<div dir="auto" style="font-family: inherit\;">An amazing line-up of Vendors will be Onsite as usual.</div>\n</div>\n\n<div class="o9v6fnle cxmmr5t8 oygrvhab hcukyx3x c1et5uql ii04i59q" style="overflow-wrap: break-word\; margin: 0.5em 0px 0px\; white-space: pre-wrap\; font-family: system-ui\, -apple-system\, system-ui\, &quot\;.SFNSText-Regular&quot\;\, sans-serif\; color: rgb(5\, 5\, 5)\; font-size: 15px\;">\n<div dir="auto" style="font-family: inherit\;">The wonderful Mrs Sue @ 10am with her educational program for the kids.</div>\n</div>\n\n<div class="o9v6fnle cxmmr5t8 oygrvhab hcukyx3x c1et5uql ii04i59q" style="overflow-wrap: break-word\; margin: 0.5em 0px 0px\; white-space: pre-wrap\; font-family: system-ui\, -apple-system\, system-ui\, &quot\;.SFNSText-Regular&quot\;\, sans-serif\; color: rgb(5\, 5\, 5)\; font-size: 15px\;">\n<div dir="auto" style="font-family: inherit\;">Ongoing Seed Starting Workshop for ALL AGES</div>\n</div>\n\n<div class="o9v6fnle cxmmr5t8 oygrvhab hcukyx3x c1et5uql ii04i59q" style="overflow-wrap: break-word\; margin: 0.5em 0px 0px\; white-space: pre-wrap\; font-family: system-ui\, -apple-system\, system-ui\, &quot\;.SFNSText-Regular&quot\;\, sans-serif\; color: rgb(5\, 5\, 5)\; font-size: 15px\;">\n<div dir="auto" style="font-family: inherit\;">Tree Giveaway</div>\n</div>\n\n<div class="o9v6fnle cxmmr5t8 oygrvhab hcukyx3x c1et5uql ii04i59q" style="overflow-wrap: break-word\; margin: 0.5em 0px 0px\; white-space: pre-wrap\; font-family: system-ui\, -apple-system\, system-ui\, &quot\;.SFNSText-Regular&quot\;\, sans-serif\; color: rgb(5\, 5\, 5)\; font-size: 15px\;">\n<div dir="auto" style="font-family: inherit\;">It truly will be a great day for all! We encourage everyone to plan to stay awhile and see what Downtown South Boston has to offer! Saturdays are the PERFECT time to SHOP LOCAL and visit our awesome Downtown Shops and Restaurants!</div>\n</div>\n\n<div class="o9v6fnle cxmmr5t8 oygrvhab hcukyx3x c1et5uql ii04i59q" style="overflow-wrap: break-word\; margin: 0.5em 0px 0px\; white-space: pre-wrap\; font-family: system-ui\, -apple-system\, system-ui\, &quot\;.SFNSText-Regular&quot\;\, sans-serif\; color: rgb(5\, 5\, 5)\; font-size: 15px\;">\n<div dir="auto" style="font-family: inherit\;">For Questions about the Earth Day Event or to see about setting up as a vendor please contact Market Manager Megan via DM\, email dtsbfm.mm@gmail.com\, or by Call/Text 3365048398.</div>\n</div>\n
LOCATION:Downtown South Boston Farmers Market 300 Broad St. South Boston\, VA 24592
UID:e.845.17958
SEQUENCE:3
DTSTAMP:20260419T154839Z
URL:https://business.halifaxchamber.net/events/details/earth-day-everyday-at-the-downtown-south-boston-farmers-market-17958
END:VEVENT

END:VCALENDAR
