BEGIN:VCALENDAR
VERSION:2.0
PRODID:-//ChamberMaster//Event Calendar 2.0//EN
METHOD:PUBLISH
X-PUBLISHED-TTL:P3D
REFRESH-INTERVAL:P3D
CALSCALE:GREGORIAN
BEGIN:VEVENT
DTSTART:20190420T140000Z
DTEND:20190420T150000Z
X-MICROSOFT-CDO-ALLDAYEVENT:FALSE
SUMMARY:Earth Day Tree Planting
DESCRIPTION:Celebrate Earth Day at Staunton River Battlefield State Park and cherish the beautiful lands we strive to protect and preserve. Give back to the planet while having fun. We will be planting trees at our historic Mulberry Hill Plantation. We will be getting down into the dirt\, so be sure to wear clothes and shoes appropriate for digging. Tools and gloves will be provided. We will be driving up to Mulberry Hill shortly after we meet so please arrive on time.
X-ALT-DESC;FMTTYPE=text/html:Celebrate Earth Day at Staunton River Battlefield State Park and cherish the beautiful lands we strive to protect and preserve. Give back to the planet while having fun. We will be planting trees at our historic Mulberry Hill Plantation. We will be getting down into the dirt\, so be sure to wear clothes and shoes appropriate for digging. Tools and gloves will be provided. We will be driving up to Mulberry Hill shortly after we meet so please arrive on time.
LOCATION:The Roanoke Station Visitor Center is located next to the Randolph Post Office at 6000 Roanoke Station Road\, Randolph\, VA 23962.
UID:e.845.12027
SEQUENCE:3
DTSTAMP:20260421T075751Z
URL:https://business.halifaxchamber.net/events/details/earth-day-tree-planting-12027
END:VEVENT

END:VCALENDAR
