BEGIN:VCALENDAR
VERSION:2.0
PRODID:-//ChamberMaster//Event Calendar 2.0//EN
METHOD:PUBLISH
X-PUBLISHED-TTL:P3D
REFRESH-INTERVAL:P3D
CALSCALE:GREGORIAN
BEGIN:VEVENT
DTSTART:20190413T180000Z
DTEND:20190413T200000Z
X-MICROSOFT-CDO-ALLDAYEVENT:FALSE
SUMMARY:Easter Bunny at Walmart
DESCRIPTION:Easter is on its way. Hopkins will be hopping by at the South Boston Walmart on 4/13/\, 4/20\,4/21 from 2 pm until 4 pm
X-ALT-DESC;FMTTYPE=text/html:Easter is on its way. Hopkins will be hopping by at the South Boston Walmart on 4/13/\, 4/20\,4/21 from 2 pm until 4 pm
LOCATION:Walmart South Bosotn
UID:e.845.12428
SEQUENCE:3
DTSTAMP:20260421T075717Z
URL:https://business.halifaxchamber.net/events/details/easter-bunny-at-walmart-12428
END:VEVENT

END:VCALENDAR
