BEGIN:VCALENDAR
VERSION:2.0
PRODID:-//ChamberMaster//Event Calendar 2.0//EN
METHOD:PUBLISH
X-PUBLISHED-TTL:P3D
REFRESH-INTERVAL:P3D
CALSCALE:GREGORIAN
BEGIN:VEVENT
DTSTART:20210403T180000Z
DTEND:20210403T210000Z
X-MICROSOFT-CDO-ALLDAYEVENT:FALSE
SUMMARY:Easter Egg Hunt
DESCRIPTION:Come and join us on Sat April 3rd for Wine and Easter Fun! We are having an Easter egg hunt for children at 2:00PM\, kids will be split into two groups by age (5 and under/6 and up). We also have Full Circle Pizza on site\, selling delicious wood fired pizzas. There will be door prizes for adults\, for every bottle of wine purchased you will receive one raffle ticket\, Raffle drawings will be held at 3:00PM\, 4:00PM and 5:00PM. We have lots of outdoor seating\, corn hole\, horseshoes and fire pits available. HCV is committed to following the current guidelines and regulations set forth by the state of Virginia.
X-ALT-DESC;FMTTYPE=text/html:<h3 style="margin: 0in\; line-height: 33px\; font-size: 16.5pt\; font-family: Helvetica\; color: rgb(68\, 68\, 68)\; font-weight: bold\;">Come and join us on Sat April 3rd for Wine and Easter Fun! We are having an Easter egg hunt for children at 2:00PM\, kids will be split into two groups by age (5 and under/6 and up). We also have Full Circle Pizza on site\, selling delicious wood fired pizzas. There will be door prizes for adults\, for every bottle of wine purchased you will receive one raffle ticket\, Raffle drawings will be held at 3:00PM\, 4:00PM and 5:00PM. We have lots of outdoor seating\, corn hole\, horseshoes and fire pits available. HCV is committed to following the current guidelines and regulations set forth by the state of Virginia.</h3>\n
LOCATION:Hunting Creek Vineyard 2000 Addie Williams Trail Clover\, VA 24534-3128
UID:e.845.17881
SEQUENCE:3
DTSTAMP:20260419T152752Z
URL:https://business.halifaxchamber.net/events/details/easter-egg-hunt-17881
END:VEVENT

END:VCALENDAR
