BEGIN:VCALENDAR
VERSION:2.0
PRODID:-//ChamberMaster//Event Calendar 2.0//EN
METHOD:PUBLISH
X-PUBLISHED-TTL:P3D
REFRESH-INTERVAL:P3D
CALSCALE:GREGORIAN
BEGIN:VEVENT
DTSTART:20170413T210000Z
DTEND:20170413T230000Z
X-MICROSOFT-CDO-ALLDAYEVENT:FALSE
SUMMARY:Easter Egg Hunt - Law Enforcement/Community
DESCRIPTION:The fourth annual Law Enforcement/Community Easter Egg Hunt will be April 14th.\n\n\n\nThis year The Easter Egg Hunt will be divided into three age groups. \n\n2-4\, 5-7 and 8-10. \n\nThe 2-4 age group will start at approximately 5:30 with the hunts for the age group 5-7 and 8-10 following in that respective order.\n\n\n\nThe Easter Bunny will be on site and will be hopping around the fairground. Mickey Mouse may even make an appearance.\n\n\n\nEveryone is encouraged to attend the free community event\, and children are reminded to bring their own basket.
X-ALT-DESC;FMTTYPE=text/html:The fourth annual Law Enforcement/Community Easter Egg Hunt will be April 14th.<br />\n<br />\nThis year The Easter Egg Hunt will be divided into three age groups.&nbsp\;<br />\n2-4\, 5-7 and 8-10.&nbsp\;<br />\nThe 2-4 age group will start at approximately 5:30 with the hunts for the age group 5-7 and 8-10 following in that respective order.<br />\n<br />\nThe Easter Bunny will be on site and will be hopping around the fairground. Mickey Mouse may even make an appearance.<br />\n<br />\nEveryone is encouraged to attend the free community event\, and children are reminded to bring their own basket.
LOCATION:Halifax County Fair Grounds 1188 James D Hagood Highway South Boston\, VA 24592
UID:e.845.5884
SEQUENCE:3
DTSTAMP:20260424T131656Z
URL:https://business.halifaxchamber.net/events/details/easter-egg-hunt-law-enforcement-community-5884
END:VEVENT

END:VCALENDAR
