BEGIN:VCALENDAR
VERSION:2.0
PRODID:-//ChamberMaster//Event Calendar 2.0//EN
METHOD:PUBLISH
X-PUBLISHED-TTL:P3D
REFRESH-INTERVAL:P3D
CALSCALE:GREGORIAN
BEGIN:VEVENT
DTSTART:20190419T213000Z
DTEND:20190419T223000Z
X-MICROSOFT-CDO-ALLDAYEVENT:FALSE
SUMMARY:Easter Egg Hunt Sentara Woodview
DESCRIPTION:Come join Sentara Woodview on Friday\, April 19th from 5:30 p.m. to 6:30 p.m. for a fun-filled Easter Egg Hunt. Sentara Woodview is proud to offer this event for children ages 12 and under.
X-ALT-DESC;FMTTYPE=text/html:<span style="background-color:rgb(255\, 255\, 255)\; color:rgb(29\, 33\, 41)\; font-family:system-ui\,-apple-system\,blinkmacsystemfont\,.sfnstext-regular\,sans-serif\; font-size:14px">Come join Sentara Woodview on Friday\, April 19th from 5:30 p.m. to 6:30 p.m. for a fun-filled Easter Egg Hunt. Sentara Woodview is proud to offer this event for children ages 12 and under. </span>
LOCATION:
UID:e.845.12401
SEQUENCE:3
DTSTAMP:20260421T075738Z
URL:https://business.halifaxchamber.net/events/details/easter-egg-hunt-sentara-woodview-12401
END:VEVENT

END:VCALENDAR
