BEGIN:VCALENDAR
VERSION:2.0
PRODID:-//ChamberMaster//Event Calendar 2.0//EN
METHOD:PUBLISH
X-PUBLISHED-TTL:P3D
REFRESH-INTERVAL:P3D
CALSCALE:GREGORIAN
BEGIN:VEVENT
DTSTART:20170415T150000Z
DTEND:20170415T170000Z
X-MICROSOFT-CDO-ALLDAYEVENT:FALSE
SUMMARY:Easter Egg Hunt - World of Sports
DESCRIPTION:Join us for an Easter Egg Hunt at the World of Sports at 11:00AM.\n\nPictures with the Easter Bunny will begin at 11:30AM.  \n\nThen Bowl with the Easter Bunny from Noon - 1PM.\n\n\n\nPlease provide your own basket.
X-ALT-DESC;FMTTYPE=text/html:<span style="color:rgb(75\, 79\, 86)\; font-family:san francisco\,-apple-system\,blinkmacsystemfont\,.sfnstext-regular\,sans-serif\; font-size:14px">Join us for an Easter Egg Hunt at the World of Sports at 11:00AM.</span><br />\n<span style="color:rgb(75\, 79\, 86)\; font-family:san francisco\,-apple-system\,blinkmacsystemfont\,.sfnstext-regular\,sans-serif\; font-size:14px">Pictures with the Easter Bunny will begin at 11:30AM.&nbsp\;&nbsp\;</span><br />\n<span style="color:rgb(75\, 79\, 86)\; font-family:san francisco\,-apple-system\,blinkmacsystemfont\,.sfnstext-regular\,sans-serif\; font-size:14px">Then Bowl with the Easter Bunny from Noon - 1PM.</span><br />\n<br />\n<span style="color:rgb(75\, 79\, 86)\; font-family:san francisco\,-apple-system\,blinkmacsystemfont\,.sfnstext-regular\,sans-serif\; font-size:14px">Please provide your own basket.</span><br />\n<br />\n&nbsp\;
LOCATION:World of Sports 2030 Bill Tuck Highway South Boston\, VA 24592
UID:e.845.5885
SEQUENCE:3
DTSTAMP:20260424T114229Z
URL:https://business.halifaxchamber.net/events/details/easter-egg-hunt-world-of-sports-5885
END:VEVENT

END:VCALENDAR
