BEGIN:VCALENDAR
VERSION:2.0
PRODID:-//ChamberMaster//Event Calendar 2.0//EN
METHOD:PUBLISH
X-PUBLISHED-TTL:P3D
REFRESH-INTERVAL:P3D
CALSCALE:GREGORIAN
BEGIN:VEVENT
DTSTART;VALUE=DATE:20190413
DTEND;VALUE=DATE:20190414
TRANSP:TRANSPARENT
X-MICROSOFT-CDO-ALLDAYEVENT:TRUE
SUMMARY:Easter EGGstravaganza
DESCRIPTION:Easter EGGstravaganza\n\nEgg Hunt\, Hot Dogs\, Cupcakes\, Popcorn\, Snow Cones\, Bounce Houses\, Games\, and Face Painting!
X-ALT-DESC;FMTTYPE=text/html:Easter EGGstravaganza<br />\nEgg Hunt\, Hot Dogs\, Cupcakes\, Popcorn\, Snow Cones\, Bounce Houses\, Games\, and Face Painting!
LOCATION:Beth Carr Baptist Church 25 Church Street Halifax\, VA
UID:e.845.12415
SEQUENCE:3
DTSTAMP:20260421T075551Z
URL:https://business.halifaxchamber.net/events/details/easter-eggstravaganza-12415
END:VEVENT

END:VCALENDAR
