BEGIN:VCALENDAR
VERSION:2.0
PRODID:-//ChamberMaster//Event Calendar 2.0//EN
METHOD:PUBLISH
X-PUBLISHED-TTL:P3D
REFRESH-INTERVAL:P3D
CALSCALE:GREGORIAN
BEGIN:VEVENT
DTSTART:20190420T200000Z
DTEND:20190420T220000Z
X-MICROSOFT-CDO-ALLDAYEVENT:FALSE
SUMMARY:Easter Fun at the World of Sports
DESCRIPTION:Pictures with the Easter Bunny and surprise eggs!
X-ALT-DESC;FMTTYPE=text/html:Pictures with the Easter Bunny and surprise eggs!<br />\n<br />\n&nbsp\;
LOCATION:World of Sports 2030 Bill Tuck Highway South Boston\, VA 24592
UID:e.845.12416
SEQUENCE:3
DTSTAMP:20260421T094102Z
URL:https://business.halifaxchamber.net/events/details/easter-fun-at-the-world-of-sports-12416
END:VEVENT

END:VCALENDAR
