BEGIN:VCALENDAR
VERSION:2.0
PRODID:-//ChamberMaster//Event Calendar 2.0//EN
METHOD:PUBLISH
X-PUBLISHED-TTL:P3D
REFRESH-INTERVAL:P3D
CALSCALE:GREGORIAN
BEGIN:VEVENT
DTSTART:20200307T013000Z
DTEND:20200307T043000Z
X-MICROSOFT-CDO-ALLDAYEVENT:FALSE
SUMMARY:Easy Street Rides Again!
DESCRIPTION:March 6\, 2020 at JB's at the World of Sports the Easy Street Band will hit the stage again for a night of music and fun! Start making plans to be there!\n\n\n\nTickets are $5 in advance and $10 at the door. \n\n?Advance tickets can be purchased at http://worldofsports.pfestore.com/retail/Easy%20Street%20Reunion/Default.aspx
X-ALT-DESC;FMTTYPE=text/html:<font color="#1d2129"><span style="font-size:14px">March 6\, 2020 at JB&#39\;s at the World of Sports the Easy Street Band will hit the stage again for a night of music and fun! Start making plans to be there!</span></font><br />\n<br />\n<font color="#1d2129"><span style="font-size:14px">Tickets are $5 in advance and $10 at the door.&nbsp\;</span></font><br />\n<font color="#1d2129"><span style="font-size:14px">?Advance&nbsp\;</span><span style="caret-color:rgb(29\, 33\, 41)\; font-size:14px">tickets</span><span style="font-size:14px">&nbsp\;can be&nbsp\;purchased at&nbsp\;</span></font>http://worldofsports.pfestore.com/retail/Easy%20Street%20Reunion/Default.aspx
LOCATION:World of Sports 2030 Bill Tuck Highway South Boston\, VA 24592
UID:e.845.17488
SEQUENCE:3
DTSTAMP:20260420T131909Z
URL:https://business.halifaxchamber.net/events/details/easy-street-rides-again-17488
END:VEVENT

END:VCALENDAR
