BEGIN:VCALENDAR
VERSION:2.0
PRODID:-//ChamberMaster//Event Calendar 2.0//EN
METHOD:PUBLISH
X-PUBLISHED-TTL:P3D
REFRESH-INTERVAL:P3D
CALSCALE:GREGORIAN
BEGIN:VEVENT
DTSTART:20200401T170000Z
DTEND:20200401T180000Z
X-MICROSOFT-CDO-ALLDAYEVENT:FALSE
SUMMARY:Economic Injury Disaster Loan 4.1.20
DESCRIPTION:The U.S. Small Business Administration is offering designated states and territories low-interest federal disaster loans for working capital to small businesses suffering substantial economic injury as a result of the Coronavirus (COVID-19). Upon a request received from a state's or territory's Governor\, SBA will issue under its own authority\, as provided by the Coronavirus Preparedness and Response Supplemental Appropriations Act that was recently signed by the President\, an Economic Injury Disaster Loan declaration.
X-ALT-DESC;FMTTYPE=text/html:<span style="color: rgb(111\, 114\, 135)\; font-family: 'Neue Plak'\, -apple-system\, BlinkMacSystemFont\, Roboto\, 'Helvetica Neue'\, Helvetica\, Tahoma\, Arial\, sans-serif\; font-size: 14.933333396911621px\; letter-spacing: 0.5px\;">The U.S. Small Business Administration is offering designated states and territories low-interest federal disaster loans for working capital to small businesses suffering substantial economic injury as a result of the Coronavirus (COVID-19). Upon a request received from a state&rsquo\;s or territory&rsquo\;s Governor\, SBA will issue under its own authority\, as provided by the Coronavirus Preparedness and Response Supplemental Appropriations Act that was recently signed by the President\, an Economic Injury Disaster Loan declaration.</span>
LOCATION:Register at: https://www.eventbrite.com/e/webinar-applying-for-sba-disaster-loans-economic-injury-disaster-loans-tickets-101674122036?utm_medium=email&utm_source=govdelivery
UID:e.845.17547
SEQUENCE:3
DTSTAMP:20260420T132540Z
URL:https://business.halifaxchamber.net/events/details/economic-injury-disaster-loan-4-1-20-17547
END:VEVENT

END:VCALENDAR
