BEGIN:VCALENDAR
VERSION:2.0
PRODID:-//ChamberMaster//Event Calendar 2.0//EN
METHOD:PUBLISH
X-PUBLISHED-TTL:P3D
REFRESH-INTERVAL:P3D
CALSCALE:GREGORIAN
BEGIN:VEVENT
DTSTART:20190923T223000Z
DTEND:20190923T223000Z
X-MICROSOFT-CDO-ALLDAYEVENT:FALSE
SUMMARY:ED2 Town Hall Meeting
DESCRIPTION:p.p1 {margin: 0.0px 0.0px 0.0px 0.0px\; font: 11.0px Arial\; color: #1b1e21}\nspan.s1 {font-kerning: none}\n\nBoard of Supervisors Representative Jeff Francisco and School Board Representative Roy Keith Lloyd will host a town discussion on Monday\, September 23 at 6:30 at the Mt Laurel Ruritan Club about the sales tax referendum and the high school project. Halifax County Superintendent Dr. Mark Lineburg and Halifax County Administrator Scott Simpson will share thoughts on the sales tax referendum and answer questions.\n\nPlease come out and join us as we\, the citizens of Halifax County\, have major decisions to make in the upcoming months. This will allow us all to make these important decisions armed with all available information.
X-ALT-DESC;FMTTYPE=text/html:<style type="text/css">p.p1 {margin: 0.0px 0.0px 0.0px 0.0px\; font: 11.0px Arial\; color: #1b1e21}\nspan.s1 {font-kerning: none}\n</style>\n<p class="p1"><span style="font-size:14px\;"><span class="s1">Board of Supervisors Representative Jeff Francisco and School Board Representative Roy Keith Lloyd will host a town discussion on Monday\, September 23 at 6:30 at the Mt Laurel Ruritan Club about the sales tax referendum and the high school project. Halifax County Superintendent Dr. Mark Lineburg and Halifax County Administrator Scott Simpson will share thoughts on the sales tax referendum and answer questions.<br />\nPlease come out and join us as we\, the citizens of Halifax County\, have major decisions to make in the upcoming months. This will allow us all to make these important decisions armed with all available information.</span></span></p>\n
LOCATION:Mt. Lauren Ruritan Club 5124 Mt. Laurel Road Clover\, VA 24534
UID:e.845.13296
SEQUENCE:3
DTSTAMP:20260420T234021Z
URL:https://business.halifaxchamber.net/events/details/ed2-town-hall-meeting-13296
END:VEVENT

END:VCALENDAR
