BEGIN:VCALENDAR
VERSION:2.0
PRODID:-//ChamberMaster//Event Calendar 2.0//EN
METHOD:PUBLISH
X-PUBLISHED-TTL:P3D
REFRESH-INTERVAL:P3D
CALSCALE:GREGORIAN
BEGIN:VEVENT
DTSTART:20190413T133000Z
DTEND:20190413T143000Z
X-MICROSOFT-CDO-ALLDAYEVENT:FALSE
SUMMARY:Eden Jewelry Customer Appreciation Event
DESCRIPTION:Eden Jewelry Customer Appreciation Day 50% off for 60 Minutes 9:30 AM - 10:30 AM\n\n\n\nAll Items 10% - 50 % Off  Starting at 10:31 AM - 7: 30 PM.\n\nDoor Prizes Throughtout The Day ! Refreshments Wil Be Served
X-ALT-DESC;FMTTYPE=text/html:Eden Jewelry Customer Appreciation Day 50% off for 60 Minutes 9:30 AM - 10:30 AM<br />\n<br />\nAll Items 10% - 50 % Off &nbsp\;Starting at 10:31 AM - 7: 30 PM.<br />\nDoor Prizes Throughtout The Day ! Refreshments Wil Be Served
LOCATION:Eden Jewelry 3601 Halifax Road South Boston\, VA 24592
UID:e.845.12417
SEQUENCE:3
DTSTAMP:20260421T080028Z
URL:https://business.halifaxchamber.net/events/details/eden-jewelry-customer-appreciation-event-12417
END:VEVENT

END:VCALENDAR
