BEGIN:VCALENDAR
VERSION:2.0
PRODID:-//ChamberMaster//Event Calendar 2.0//EN
METHOD:PUBLISH
X-PUBLISHED-TTL:P3D
REFRESH-INTERVAL:P3D
CALSCALE:GREGORIAN
BEGIN:VEVENT
DTSTART:20190620T203000Z
DTEND:20190620T223000Z
X-MICROSOFT-CDO-ALLDAYEVENT:FALSE
SUMMARY:Eden Jewelry - Sing for the Bling
DESCRIPTION:Eden Jewelry and WAKG host your chance to sing to win a $5000 shopping spree at Eden Jewelry!\n\nSing at the South Boston location to be entered into the grand finale!\n\nVoting period on WAKG Facebook Friday\, June 21 - Wednesday\, June 26\n\nTop Five contestants announced Thursday\, June 27\n\nGrand Finale Broadcast/Sing-off - Saturday\, June 29\, 11 am - 2 pm
X-ALT-DESC;FMTTYPE=text/html:Eden Jewelry and WAKG host your chance to sing to win a $5000 shopping spree at Eden Jewelry!<br />\nSing at the South Boston location to be entered into the grand finale!<br />\nVoting period on WAKG Facebook Friday\, June 21 - Wednesday\, June 26<br />\nTop Five contestants announced Thursday\, June 27<br />\nGrand Finale Broadcast/Sing-off - Saturday\, June 29\, 11 am - 2 pm
LOCATION:Eden Jewelry South Boston Location 3601 Old Halifax Road Suite 800 South Boston\, VA 24592
UID:e.845.13197
SEQUENCE:3
DTSTAMP:20260421T044551Z
URL:https://business.halifaxchamber.net/events/details/eden-jewelry-sing-for-the-bling-13197
END:VEVENT

END:VCALENDAR
