BEGIN:VCALENDAR
VERSION:2.0
PRODID:-//ChamberMaster//Event Calendar 2.0//EN
METHOD:PUBLISH
X-PUBLISHED-TTL:P3D
REFRESH-INTERVAL:P3D
CALSCALE:GREGORIAN
BEGIN:VEVENT
DTSTART:20191210T230000Z
DTEND:20191210T230000Z
X-MICROSOFT-CDO-ALLDAYEVENT:FALSE
SUMMARY:Educational Screening of End Game
DESCRIPTION:Join Sentara Halifax Regional Hospital for an educational screening of the documentary End Game. The film illustrates the role of hospice in end-of-life care and the value of creating dignified\, compassionate last moments for loved ones.\n\nThis event is free to attend\, but registration is required. Please call 434.517.3538 to secure your spot.
X-ALT-DESC;FMTTYPE=text/html:Join Sentara Halifax Regional Hospital for an educational screening of the documentary End Game. The film illustrates the role of hospice in end-of-life care and the value of creating dignified\, compassionate last moments for loved ones.<br />\nThis event is free to attend\, but registration is required. Please call 434.517.3538 to secure your spot.
LOCATION:The Prizery Chastain Theater 700 Bruce Street South Boston\, VA 24592
UID:e.845.15544
SEQUENCE:3
DTSTAMP:20260420T195857Z
URL:https://business.halifaxchamber.net/events/details/educational-screening-of-end-game-15544
END:VEVENT

END:VCALENDAR
