BEGIN:VCALENDAR
VERSION:2.0
PRODID:-//ChamberMaster//Event Calendar 2.0//EN
METHOD:PUBLISH
X-PUBLISHED-TTL:P3D
REFRESH-INTERVAL:P3D
CALSCALE:GREGORIAN
BEGIN:VEVENT
DTSTART:20191023T220000Z
DTEND:20191023T233000Z
X-MICROSOFT-CDO-ALLDAYEVENT:FALSE
SUMMARY:Election District 1 Candidate Forum and Town Hall
DESCRIPTION:The Election District 1 Candidate Forum will be held Wednesday\, October 23\, 6:00 pm\, at North Halifax Fire Department. Invited candidates for Board of Supervisors include Calvin "Ricky" Short\, and Patricia "Kathy" Fraley and Orey Hill for School Board.\n\n\n\nEvery candidate running for elected office received a letter inviting them to attend their respective forum. These forums are free and open to the public.\n\n\n\n Following each candidate forum\, a presentation on the sales tax referendum will be made. The presentation is designed to help voters understand the issues and impacts on Halifax County. A town hall will be held to answer any questions citizens may have regarding the referendum.
X-ALT-DESC;FMTTYPE=text/html:The Election District 1 Candidate Forum will be held Wednesday\, October 23\, 6:00 pm\, at North Halifax Fire Department. Invited candidates for Board of Supervisors include Calvin &ldquo\;Ricky&rdquo\; Short\, and Patricia &ldquo\;Kathy&rdquo\; Fraley and Orey Hill for School Board.<br />\n<br />\n<span style="color: black\;">Every candidate running for elected office received a letter inviting them to attend their respective forum. These forums are free and open to the public.</span><br />\n<br />\n<span style="color: black\;">&#8203\;Following each candidate forum\, a presentation on the sales tax referendum will be made. The presentation is designed to help voters understand the issues and impacts on Halifax County. A town hall will be held to answer any questions citizens may have regarding the referendum.</span>
LOCATION:North Halifax Fire Department
UID:e.845.13298
SEQUENCE:3
DTSTAMP:20260420T220048Z
URL:https://business.halifaxchamber.net/events/details/election-district-1-candidate-forum-and-town-hall-13298
END:VEVENT

END:VCALENDAR
