BEGIN:VCALENDAR
VERSION:2.0
PRODID:-//ChamberMaster//Event Calendar 2.0//EN
METHOD:PUBLISH
X-PUBLISHED-TTL:P3D
REFRESH-INTERVAL:P3D
CALSCALE:GREGORIAN
BEGIN:VEVENT
DTSTART:20191022T220000Z
DTEND:20191022T233000Z
X-MICROSOFT-CDO-ALLDAYEVENT:FALSE
SUMMARY:Election District 4 Candidate Forum and Town Hall
DESCRIPTION:The Candidate Forum for election district 4 will be held Tuesday\, October 22\, 6:00 pm\, at Halifax Town Hall. Invited candidates include Ronnie Duffey and Dennis Witt for Board of Supervisors\, and Jason "Jay" Camp for School Board.\n\n\n\nEvery candidate running for elected office received a letter inviting them to attend their respective forum. These forums are free and open to the public.\n\n\n\n Following each candidate forum\, a presentation on the sales tax referendum will be made. The presentation is designed to help voters understand the issues and impacts on Halifax County. A town hall will be held to answer any questions citizens may have regarding the referendum.
X-ALT-DESC;FMTTYPE=text/html:The Candidate Forum for election district 4 will be held Tuesday\, October 22\, 6:00 pm\, at Halifax Town Hall. Invited candidates include Ronnie Duffey and Dennis Witt for Board of Supervisors\, and Jason &ldquo\;Jay&rdquo\; Camp for School Board.<br />\n<br />\n<span style="color: black\;">Every candidate running for elected office received a letter inviting them to attend their respective forum. These forums are free and open to the public.</span><br />\n<br />\n<span style="color: black\;">&#8203\;Following each candidate forum\, a presentation on the sales tax referendum will be made. The presentation is designed to help voters understand the issues and impacts on Halifax County. A town hall will be held to answer any questions citizens may have regarding the referendum.</span>
LOCATION:Halifax Town Hall
UID:e.845.13299
SEQUENCE:3
DTSTAMP:20260420T234033Z
URL:https://business.halifaxchamber.net/events/details/election-district-4-candidate-forum-and-town-hall-13299
END:VEVENT

END:VCALENDAR
