BEGIN:VCALENDAR
VERSION:2.0
PRODID:-//ChamberMaster//Event Calendar 2.0//EN
METHOD:PUBLISH
X-PUBLISHED-TTL:P3D
REFRESH-INTERVAL:P3D
CALSCALE:GREGORIAN
BEGIN:VEVENT
DTSTART:20191024T220000Z
DTEND:20191024T233000Z
X-MICROSOFT-CDO-ALLDAYEVENT:FALSE
SUMMARY:Election District 5 Candidate Forum and Town Hall
DESCRIPTION:On Thursday\, October 24\, the candidate forum for election district 5 will be held at Scottsburg Fire Department at 6:00 pm. Invited candidates include Dean Throckmorton and James "Jimmy" Wade for Board of Supervisors\, and Freddie Edmunds for School Board.\n\n\n\nEvery candidate running for elected office received a letter inviting them to attend their respective forum. These forums are free and open to the public.\n\n\n\n Following each candidate forum\, a presentation on the sales tax referendum will be made. The presentation is designed to help voters understand the issues and impacts on Halifax County. A town hall will be held to answer any questions citizens may have regarding the referendum.
X-ALT-DESC;FMTTYPE=text/html:On Thursday\, October 24\, the candidate forum for election district 5 will be held at Scottsburg Fire Department at 6:00 pm. Invited candidates include Dean Throckmorton and James &ldquo\;Jimmy&rdquo\; Wade for Board of Supervisors\, and Freddie Edmunds for School Board.<br />\n<br />\n<span style="color: black\;">Every candidate running for elected office received a letter inviting them to attend their respective forum. These forums are free and open to the public.</span><br />\n<br />\n<span style="color: black\;">&#8203\;Following each candidate forum\, a presentation on the sales tax referendum will be made. The presentation is designed to help voters understand the issues and impacts on Halifax County. A town hall will be held to answer any questions citizens may have regarding the referendum.</span>
LOCATION:Scottsburg Fire Department
UID:e.845.13300
SEQUENCE:3
DTSTAMP:20260420T220129Z
URL:https://business.halifaxchamber.net/events/details/election-district-5-candidate-forum-and-town-hall-13300
END:VEVENT

END:VCALENDAR
