BEGIN:VCALENDAR
VERSION:2.0
PRODID:-//ChamberMaster//Event Calendar 2.0//EN
METHOD:PUBLISH
X-PUBLISHED-TTL:P3D
REFRESH-INTERVAL:P3D
CALSCALE:GREGORIAN
BEGIN:VEVENT
DTSTART:20191003T223000Z
DTEND:20191004T000000Z
X-MICROSOFT-CDO-ALLDAYEVENT:FALSE
SUMMARY:Election District 6 Town Hall
DESCRIPTION:Supervisor Stanley Brandon will host a town hall for election district 6 on Thursday\, October 3\, 6:30 pm\, at Turbeville Ruritan Club to discuss the local option sales tax referendum that voters will see on the ballot on November 5. This referendum gives citizens the opportunity to vote on an additional 1% sales tax increase to pay for school construction and improvements. This town hall meeting is designed to provide information on the referendum and answer questions from citizens.
X-ALT-DESC;FMTTYPE=text/html:<span style="font-size: 16px\; caret-color: rgb(0\, 0\, 0)\; color: rgb(0\, 0\, 0)\; font-family: Calibri\, sans-serif\;">Supervisor Stanley Brandon will host a town hall for election district 6 on Thursday\, October 3\, 6:30 pm\, at Turbeville Ruritan Club to discuss the local option sales tax referendum that voters will see on the ballot on November 5. This referendum gives citizens the opportunity to vote on an additional 1% sales tax increase to pay for school construction and improvements. This town hall meeting is designed to provide information on the referendum and answer questions from citizens.</span>
LOCATION:Turbeville Ruritan Club 1040 Melon Road\, South Boston
UID:e.845.13441
SEQUENCE:3
DTSTAMP:20260420T233838Z
URL:https://business.halifaxchamber.net/events/details/election-district-6-town-hall-13441
END:VEVENT

END:VCALENDAR
