BEGIN:VCALENDAR
VERSION:2.0
PRODID:-//ChamberMaster//Event Calendar 2.0//EN
METHOD:PUBLISH
X-PUBLISHED-TTL:P3D
REFRESH-INTERVAL:P3D
CALSCALE:GREGORIAN
BEGIN:VEVENT
DTSTART:20191029T220000Z
DTEND:20191029T233000Z
X-MICROSOFT-CDO-ALLDAYEVENT:FALSE
SUMMARY:Election District 7 Candidate Forum and Town Hall
DESCRIPTION:The candidate forum for election district 7 will be held on Tuesday\, October 29\, 6:00 pm\, at Cluster Springs Fire Department. Invited candidates include Garland Ricketts for Board of Supervisors\, and Keith McDowell and Vince Newton for School Board.\n\n\n\nEvery candidate running for elected office received a letter inviting them to attend their respective forum. These forums are free and open to the public.\n\n\n\n Following each candidate forum\, a presentation on the sales tax referendum will be made. The presentation is designed to help voters understand the issues and impacts on Halifax County. A town hall will be held to answer any questions citizens may have regarding the referendum.
X-ALT-DESC;FMTTYPE=text/html:<span style="color:black\;">The candidate forum for election district 7 will be held on Tuesday\, October 29\, 6:00 pm\,&nbsp\;at&nbsp\;Cluster Springs Fire Department.</span> Invited candidates include Garland Ricketts for Board of Supervisors\, and Keith McDowell and Vince Newton for School Board.<br />\n<br />\n<span style="color: black\;">Every candidate running for elected office received a letter inviting them to attend their respective forum. These forums are free and open to the public.</span><br />\n<br />\n<span style="color: black\;">&#8203\;Following each candidate forum\, a presentation on the sales tax referendum will be made. The presentation is designed to help voters understand the issues and impacts on Halifax County. A town hall will be held to answer any questions citizens may have regarding the referendum.</span><br />\n&nbsp\;
LOCATION:Cluster Springs Fire Department
UID:e.845.13301
SEQUENCE:3
DTSTAMP:20260420T234026Z
URL:https://business.halifaxchamber.net/events/details/election-district-7-candidate-forum-and-town-hall-13301
END:VEVENT

END:VCALENDAR
