BEGIN:VCALENDAR
VERSION:2.0
PRODID:-//ChamberMaster//Event Calendar 2.0//EN
METHOD:PUBLISH
X-PUBLISHED-TTL:P3D
REFRESH-INTERVAL:P3D
CALSCALE:GREGORIAN
BEGIN:VEVENT
DTSTART:20190427T140000Z
DTEND:20190427T180000Z
X-MICROSOFT-CDO-ALLDAYEVENT:FALSE
SUMMARY:Electronics Recycling Event
DESCRIPTION:Convenient FREE drop off your Electronic Items during the 11th Annual Halifax Earth Day Extravaganza! \n\n\n\nItems accepted include-computers (desktop & laptop)\, keyboards\, mice\, etc\, monitors (flat panel & CRT) televisions (flat panel & CRT)\, Cable & DVR boxes\, modems\, routers\, switches\, audio/visual equipment\, small kitchen appliances (blenders\, toasters\, coffee makers\, etc) cell phones\, telephones\, radios\, CB radios\, cords & cables and other miscellaneous electronic equipment. \n\n\n\nItems not accepted- compressed gases\, including propane tanks\, hazardous waste\, explosive materials\, flammable or ignitable materials\, toxic chemicals\, medical waste\, aerosol cans\, fire extinguishers\, oil filled heaters\, items containing refrigerants\, smoke detectors\, lamp bulbs\, microwaves\, & batteries!
X-ALT-DESC;FMTTYPE=text/html:<span style="caret-color: rgb(29\, 33\, 41)\; color: rgb(29\, 33\, 41)\; font-family: system-ui\, -apple-system\, BlinkMacSystemFont\, &quot\;.SFNSText-Regular&quot\;\, sans-serif\; font-size: 14px\; white-space: pre-wrap\; background-color: rgb(255\, 255\, 255)\;">Convenient FREE drop off your Electronic Items during the 11th Annual Halifax Earth Day Extravaganza! </span><br style="caret-color: rgb(29\, 33\, 41)\; color: rgb(29\, 33\, 41)\; font-family: system-ui\, -apple-system\, BlinkMacSystemFont\, &quot\;.SFNSText-Regular&quot\;\, sans-serif\; font-size: 14px\; white-space: pre-wrap\;" />\n<br style="caret-color: rgb(29\, 33\, 41)\; color: rgb(29\, 33\, 41)\; font-family: system-ui\, -apple-system\, BlinkMacSystemFont\, &quot\;.SFNSText-Regular&quot\;\, sans-serif\; font-size: 14px\; white-space: pre-wrap\;" />\n<span style="caret-color: rgb(29\, 33\, 41)\; color: rgb(29\, 33\, 41)\; font-family: system-ui\, -apple-system\, BlinkMacSystemFont\, &quot\;.SFNSText-Regular&quot\;\, sans-serif\; font-size: 14px\; white-space: pre-wrap\; background-color: rgb(255\, 255\, 255)\;">Items accepted include-computers (desktop &amp\; laptop)\, keyboards\, mice\, etc\, monitors (flat panel &amp\; CRT) televisions (flat panel &amp\; CRT)\, Cable &amp\; DVR boxes\, modems\, routers\, switches\, audio/visual equipment\, small kitchen appliances (blenders\, toasters\, coffee makers\, etc) cell phones\, telephones\, radios\, CB radios\, cords &amp\; cables and other miscellaneous electronic equipment. </span><br style="caret-color: rgb(29\, 33\, 41)\; color: rgb(29\, 33\, 41)\; font-family: system-ui\, -apple-system\, BlinkMacSystemFont\, &quot\;.SFNSText-Regular&quot\;\, sans-serif\; font-size: 14px\; white-space: pre-wrap\;" />\n<br style="caret-color: rgb(29\, 33\, 41)\; color: rgb(29\, 33\, 41)\; font-family: system-ui\, -apple-system\, BlinkMacSystemFont\, &quot\;.SFNSText-Regular&quot\;\, sans-serif\; font-size: 14px\; white-space: pre-wrap\;" />\n<span style="caret-color: rgb(29\, 33\, 41)\; color: rgb(29\, 33\, 41)\; font-family: system-ui\, -apple-system\, BlinkMacSystemFont\, &quot\;.SFNSText-Regular&quot\;\, sans-serif\; font-size: 14px\; white-space: pre-wrap\; background-color: rgb(255\, 255\, 255)\;">Items not accepted- compressed gases\, including propane tanks\, hazardous waste\, explosive materials\, flammable or ignitable materials\, toxic chemicals\, medical waste\, aerosol cans\, fire extinguishers\, oil filled heaters\, items containing refrigerants\, smoke detectors\, lamp bulbs\, microwaves\, &amp\; batteries! </span>
LOCATION:Town of Halifax Farmers Market 209 S Main St. Halifax\, VA 24558
UID:e.845.11701
SEQUENCE:3
DTSTAMP:20260421T075552Z
URL:https://business.halifaxchamber.net/events/details/electronics-recycling-event-11701
END:VEVENT

END:VCALENDAR
