BEGIN:VCALENDAR
VERSION:2.0
PRODID:-//ChamberMaster//Event Calendar 2.0//EN
METHOD:PUBLISH
X-PUBLISHED-TTL:P3D
REFRESH-INTERVAL:P3D
CALSCALE:GREGORIAN
BEGIN:VEVENT
DTSTART:20160320T183000Z
DTEND:20160320T200000Z
X-MICROSOFT-CDO-ALLDAYEVENT:FALSE
SUMMARY:Elegance and Romance : Rainier Trio and Friends
DESCRIPTION:Kevin and Bryan Matheson are favorites at the Prizery from the Rainier Trio to Summer Theater. Join them for an unforgettable evening of romantic music and songs with Director of Opera Roanoke\, tenor Scott Williamson\, acclaimed soprano Amy Cofield Williamson\, and Judith Clark on piano.\n\n\n\nWin A Classical Dinner at Molasses Grill
X-ALT-DESC;FMTTYPE=text/html:Kevin and Bryan Matheson are favorites at the Prizery from the Rainier Trio to Summer Theater. Join them for an unforgettable evening of romantic music and songs with Director of Opera Roanoke\, tenor Scott Williamson\, acclaimed soprano Amy Cofield Williamson\, and Judith Clark on piano.<br />\n<br />\nWin A Classical Dinner at Molasses Grill
LOCATION:The Prizery 700 Bruce Street South Boston\, VA 24592
UID:e.845.4596
SEQUENCE:3
DTSTAMP:20260425T112002Z
URL:https://business.halifaxchamber.net/events/details/elegance-and-romance-rainier-trio-and-friends-03-20-2016-4596
END:VEVENT

END:VCALENDAR
