BEGIN:VCALENDAR
VERSION:2.0
PRODID:-//ChamberMaster//Event Calendar 2.0//EN
METHOD:PUBLISH
X-PUBLISHED-TTL:P3D
REFRESH-INTERVAL:P3D
CALSCALE:GREGORIAN
BEGIN:VEVENT
DTSTART:20171211T123000Z
DTEND:20171211T210000Z
X-MICROSOFT-CDO-ALLDAYEVENT:FALSE
SUMMARY:Employer Conference
DESCRIPTION:The Virginia Employment Commission will be having an Employer Conference on December 11\, 2017 in Glen Allen\, VA.\n\n\n\nRegister now at: www.vec.virginia.gov\n\n\n\nIf you have questions or concerns\, please contact:\n\nPetrina Carter\, Manager\n\nVirginia Employment Commission\n\n211 Nor Dan Drive\, Suite 1055\n\nDanville\, VA 24540\n\nOffice: (434) 549-8220 - Direct (434) 549-8261\n\n\n\nAgenda
X-ALT-DESC;FMTTYPE=text/html:The Virginia Employment Commission will be having an Employer Conference on December 11\, 2017 in Glen Allen\, VA.<br />\n<br />\nRegister now at: <a href="http://www.vec.virginia.gov/">www.vec.virginia.gov</a><br />\n<br />\nIf you have questions or concerns\, please contact:<br />\nPetrina Carter\, Manager<br />\nVirginia Employment Commission<br />\n211 Nor Dan Drive\, Suite 1055<br />\nDanville\, VA 24540<br />\nOffice: (434) 549-8220 - Direct (434) 549-8261<br />\n<br />\n<a href="http://www.vec.virginia.gov/sites/default/files/2017%20Webpage%20Agenda-Richmond-9713972.pdf">Agenda</a>
LOCATION:Virginia Crossings 1000 Virginia Center Pkwy Glen Allen\, VA
UID:e.845.7155
SEQUENCE:3
DTSTAMP:20260422T104415Z
URL:https://business.halifaxchamber.net/events/details/employer-conference-7155
END:VEVENT

END:VCALENDAR
