BEGIN:VCALENDAR
VERSION:2.0
PRODID:-//ChamberMaster//Event Calendar 2.0//EN
METHOD:PUBLISH
X-PUBLISHED-TTL:P3D
REFRESH-INTERVAL:P3D
CALSCALE:GREGORIAN
BEGIN:VEVENT
DTSTART:20151014T160000Z
DTEND:20151014T173000Z
X-MICROSOFT-CDO-ALLDAYEVENT:FALSE
SUMMARY:Employer Healthcare Forum
DESCRIPTION:Gateway Health and the Halifax Physician Hospital Organization are pleased to bring you\, Southside Solutions\, a semi-annual event dedicated to helping local businesses navigate the challenging environment of healthcare.
X-ALT-DESC;FMTTYPE=text/html:<span style="color: rgb(127\, 127\, 127)\; font-family: Arial\, Helvetica\, sans-serif\; font-size: 13.3333px\; line-height: normal\; text-align: center\; background-color: rgb(246\, 246\, 246)\;">Gateway Health and the Halifax Physician Hospital Organization are pleased to bring you\,&nbsp\;</span><em style="color: rgb(127\, 127\, 127)\; font-family: Arial\, Helvetica\, sans-serif\; font-size: 10pt\; line-height: normal\; text-align: center\; background-color: rgb(246\, 246\, 246)\;">Southside Solutions</em><span style="color: rgb(127\, 127\, 127)\; font-family: Arial\, Helvetica\, sans-serif\; font-size: 10pt\; line-height: normal\; text-align: center\; background-color: rgb(246\, 246\, 246)\;">\, a semi-annual event dedicated to helping local businesses navigate the challenging environment of healthcare.</span>
LOCATION:Berry Hill Resort 3105 River Road South Boston\, VA 24592
UID:e.845.4547
SEQUENCE:3
DTSTAMP:20260425T175022Z
URL:https://business.halifaxchamber.net/events/details/employer-healthcare-forum-10-14-2015-4547
END:VEVENT

END:VCALENDAR
