BEGIN:VCALENDAR
VERSION:2.0
PRODID:-//ChamberMaster//Event Calendar 2.0//EN
METHOD:PUBLISH
X-PUBLISHED-TTL:P3D
REFRESH-INTERVAL:P3D
CALSCALE:GREGORIAN
BEGIN:VEVENT
DTSTART:20190822T123000Z
DTEND:20190822T140000Z
X-MICROSOFT-CDO-ALLDAYEVENT:FALSE
SUMMARY:Employment Law Update Seminar
DESCRIPTION:Join the Chamber of Commerce for a seminar on employment laws featuring speaker Jennifer H. Burnett of Clement & Wheatley. Topics of discussion will include: Exempt vs. Nonexempt\, Employees vs. Independent Contractors\, Workplace Violence\, and when employers are held liable for an employee's actions under law. \np.p1 {margin: 0.0px 0.0px 0.0px 0.0px\; font: 11.0px Calibri\; color: #2f5496}\nspan.s1 {font-kerning: none}\n\n \nContinental breakfast will be provided.
X-ALT-DESC;FMTTYPE=text/html:Join the Chamber of Commerce for a seminar on employment laws featuring speaker Jennifer H. Burnett of Clement &amp\; Wheatley. Topics of discussion will include: Exempt vs. Nonexempt\, Employees vs. Independent Contractors\, Workplace Violence\, and when employers are held liable for an employee&#39\;s actions under law.&nbsp\;\n<style type="text/css">p.p1 {margin: 0.0px 0.0px 0.0px 0.0px\; font: 11.0px Calibri\; color: #2f5496}\nspan.s1 {font-kerning: none}\n</style>\n<p class="p1">&nbsp\;</p>\nContinental breakfast will be provided.&nbsp\;
LOCATION:SVHEF Boardroom 180 Factory Street South Boston\, VA 24592
UID:e.845.13242
SEQUENCE:3
DTSTAMP:20260421T013003Z
URL:https://business.halifaxchamber.net/events/details/employment-law-update-seminar-13242
END:VEVENT

END:VCALENDAR
