BEGIN:VCALENDAR
VERSION:2.0
PRODID:-//ChamberMaster//Event Calendar 2.0//EN
METHOD:PUBLISH
X-PUBLISHED-TTL:P3D
REFRESH-INTERVAL:P3D
CALSCALE:GREGORIAN
BEGIN:VEVENT
DTSTART:20151105T150000Z
DTEND:20151105T170000Z
X-MICROSOFT-CDO-ALLDAYEVENT:FALSE
SUMMARY:Employment Prep Workshop
DESCRIPTION:Are You Prepared?\n\nJoin us for the Employment Prep Workshop on Thursday \n\nNovember 5\, 10am - Noon or 2:00 - 4:00 pm at the Southern Virginia Higher Education Center's Innovation Center. \n\nTopics include:\n\n           Resume Building\n\n           Interviewing and the Follow-up Process\n\n           Importance of NCRC. What can this certification mean for you?
X-ALT-DESC;FMTTYPE=text/html:<span style="font-weight:bold\;language:EN\;"><span style="color:#213B86\;"><span style="font-family:garamond\;"><span style="font-size:11.0pt\;">Are You Prepared?</span></span></span></span><br />\n<span style="language:EN\;"><span style="color:#213B86\;"><span style="font-family:garamond\;"><span style="font-size:10.5pt\;">Join us for the Employment Prep Workshop on Thursday </span></span></span></span><br />\n<span style="language:EN\;"><span style="color:#213B86\;"><span style="font-family:garamond\;"><span style="font-size:10.5pt\;">November 5\, 10am - Noon or 2:00 - 4:00 pm at the Southern Virginia Higher Education Center&rsquo\;s Innovation Center. </span></span></span></span><br />\n<span style="language:EN\;"><span style="color:#213B86\;"><span style="font-family:garamond\;"><span style="font-size:10.5pt\;">Topics include:</span></span></span></span><br />\n<span style="language:X-NONE\;"><span style="color:#213B86\;"><span style="font-size:10.0pt\;"><span style="font-family:symbol\;">&middot\;</span></span></span></span>&nbsp\;&nbsp\;&nbsp\;&nbsp\;&nbsp\;&nbsp\;&nbsp\;&nbsp\;&nbsp\;&nbsp\;<span style="language:EN\;"><span style="color:#213B86\;"><span style="font-family:garamond\;"><span style="font-size:10.5pt\;">Resume Building</span></span></span></span><br />\n<span style="language:X-NONE\;"><span style="color:#213B86\;"><span style="font-size:10.0pt\;"><span style="font-family:symbol\;">&middot\;</span></span></span></span>&nbsp\;&nbsp\;&nbsp\;&nbsp\;&nbsp\;&nbsp\;&nbsp\;&nbsp\;&nbsp\;&nbsp\;<span style="language:EN\;"><span style="color:#213B86\;"><span style="font-family:garamond\;"><span style="font-size:10.5pt\;">Interviewing and the Follow-up Process</span></span></span></span><br />\n<span style="language:X-NONE\;"><span style="color:black\;"><span style="font-size:10.0pt\;"><span style="font-family:symbol\;">&middot\;</span></span></span></span>&nbsp\;&nbsp\;&nbsp\;&nbsp\;&nbsp\;&nbsp\;&nbsp\;&nbsp\;&nbsp\;&nbsp\;<span style="language:EN\;"><span style="color:#213B86\;"><span style="font-family:garamond\;"><span style="font-size:10.5pt\;">Importance of NCRC. What can this certification mean for you?</span></span></span></span><br />\n&nbsp\;
LOCATION:Southern Virginia Higher Education Center's Innovation Center
UID:e.845.4543
SEQUENCE:3
DTSTAMP:20260425T162354Z
URL:https://business.halifaxchamber.net/events/details/employment-prep-workshop-11-05-2015-4543
END:VEVENT

END:VCALENDAR
