BEGIN:VCALENDAR
VERSION:2.0
PRODID:-//ChamberMaster//Event Calendar 2.0//EN
METHOD:PUBLISH
X-PUBLISHED-TTL:P3D
REFRESH-INTERVAL:P3D
CALSCALE:GREGORIAN
BEGIN:VEVENT
DTSTART:20190219T230000Z
DTEND:20190220T000000Z
X-MICROSOFT-CDO-ALLDAYEVENT:FALSE
SUMMARY:Enjoy A Glass of Wine And A Little Heart to Heart
DESCRIPTION:Join us for a local wine tasting\, delicious meal and educational information presented by Said Iskandar\, M.D.\, and Gareth Titus\, M.D. with Sentara. Enjoy refreshments while our cardiologists present information related to risks and symptoms associated with heart disease\, as well as prevention and treatment options available. \n\n\n\nSpace is limited. 21 and older.
X-ALT-DESC;FMTTYPE=text/html:Join us for a local wine tasting\, delicious meal and educational information presented by Said Iskandar\, M.D.\, and Gareth Titus\, M.D. with Sentara. Enjoy refreshments while our cardiologists present information related to risks and symptoms associated with heart disease\, as well as prevention and treatment options available.&nbsp\;<br />\n<br />\nSpace is limited. 21 and older.
LOCATION:The Prizery 700 Bruce Street Sputh Boston\, VA 24592
UID:e.845.11711
SEQUENCE:3
DTSTAMP:20260423T091205Z
URL:https://business.halifaxchamber.net/events/details/enjoy-a-glass-of-wine-and-a-little-heart-to-heart-11711
END:VEVENT

END:VCALENDAR
