BEGIN:VCALENDAR
VERSION:2.0
PRODID:-//ChamberMaster//Event Calendar 2.0//EN
METHOD:PUBLISH
X-PUBLISHED-TTL:P3D
REFRESH-INTERVAL:P3D
CALSCALE:GREGORIAN
BEGIN:VEVENT
DTSTART:20160928T130000Z
DTEND:20160928T150000Z
X-MICROSOFT-CDO-ALLDAYEVENT:FALSE
SUMMARY:Establish/Repair Your Business Credit
DESCRIPTION:You don't need to fund your business with personal credit or by collateralizing your home or personal assets for a loan. You can use business credit if you know how to get it!\n\nLearn the 20 foundational steps required to get approved for $50\,000+ in business credit\n\nDiscover the inner workings of the business credit bureaus: D&B\, Experian\, Equifax\n\nUnderstand how business credit scores are calculated and how to get an 85 D&B Paydex score\n\nStudy the " Anatomy of the FICO Score " and how to increase your personal credit scores sometimes up to 100 points\n\nUnderstand the risks  to personal finances from credit-related scams and fraud and how to avoid\n\nFind the practices/products\, tool or services available to help proper credit reporting\n\n\n\nRegistration is required to attend at www.sbdc-longwood.com/training
X-ALT-DESC;FMTTYPE=text/html:You don&#39\;t need to fund your business with personal credit or by collateralizing your home or personal assets for a loan. You can use business credit if you know how to get it!<br />\nLearn the 20 foundational steps required to get approved for&nbsp\;$50\,000+ in business credit<br />\nDiscover the inner workings of the business credit bureaus: D&amp\;B\, Experian\, Equifax<br />\nUnderstand how&nbsp\;business credit scores are calculated and how to get an 85 D&amp\;B Paydex score<br />\nStudy the &quot\; Anatomy of the FICO Score &quot\; and how to increase your personal credit scores sometimes up to 100 points<br />\nUnderstand the risks&nbsp\; to personal finances from credit-related scams and fraud and how to avoid<br />\nFind the practices/products\, tool or services available to help proper credit reporting<br />\n<br />\nRegistration is required to attend at www.sbdc-longwood.com/training\n<p>&nbsp\;</p>\n\n<p>&nbsp\;</p>\n
LOCATION:Southern Virginia Higher Education Center Innovation Center 820 Bruce Street South Boston\, VA 24592
UID:e.845.4701
SEQUENCE:3
DTSTAMP:20260424T225556Z
URL:https://business.halifaxchamber.net/events/details/establish-repair-your-business-credit-09-28-2016-4701
END:VEVENT

END:VCALENDAR
